BEGIN:VCALENDAR
VERSION:2.0
PRODID:icalendar-ruby
CALSCALE:GREGORIAN
METHOD:PUBLISH
BEGIN:VEVENT
DTSTAMP:20260424T231829Z
UID:5-1730059@epiphanysurrey.org
DTSTART:20240326T020000Z
DTEND:20240326T021500Z
CLASS:PUBLIC
CREATED:20260424T151604
DESCRIPTION:A short evening service (ten minutes) to complete the day. A se
 ries of psalms\, readings and prayers as we prepare to rest from our work 
 at the end of the day. This event takes place via Zoom. 
LAST-MODIFIED:20260424T151604
LOCATION:
SUMMARY:Compline
URL;VALUE=URI:https://www.epiphanysurrey.org/events/compline/2024-03-25
END:VEVENT
END:VCALENDAR
