BEGIN:VCALENDAR
VERSION:2.0
PRODID:icalendar-ruby
CALSCALE:GREGORIAN
METHOD:PUBLISH
BEGIN:VEVENT
DTSTAMP:20260424T212752Z
UID:5-1729094@epiphanysurrey.org
DTSTART:20240319T020000Z
DTEND:20240319T021500Z
CLASS:PUBLIC
CREATED:20260424T122812
DESCRIPTION:A short evening service (ten minutes) to complete the day. A se
 ries of psalms\, readings and prayers as we prepare to rest from our work 
 at the end of the day. This event takes place via Zoom. 
LAST-MODIFIED:20260424T122812
LOCATION:
SUMMARY:Compline
URL;VALUE=URI:https://www.epiphanysurrey.org/events/compline/2024-03-18
END:VEVENT
END:VCALENDAR
